BEGIN:VCALENDAR
VERSION:2.0
PRODID:-//Deutsch-Japanische Gesellschaft in Saarbrücken e.V - ECPv4.4.3//NONSGML v1.0//EN
CALSCALE:GREGORIAN
METHOD:PUBLISH
X-WR-CALNAME:Deutsch-Japanische Gesellschaft in Saarbrücken e.V
X-ORIGINAL-URL:https://djg-saarbruecken.de
X-WR-CALDESC:Events for Deutsch-Japanische Gesellschaft in Saarbrücken e.V
BEGIN:VEVENT
DTSTART;TZID=Europe/Berlin:20200523T000000
DTEND;TZID=Europe/Berlin:20200526T000000
DTSTAMP:20260424T001821
CREATED:20200225T134255Z
LAST-MODIFIED:20200225T134255Z
UID:591-1590192000-1590451200@djg-saarbruecken.de
SUMMARY:7. Japan Filmtage in Saarbrücken   23. - 26. Mai 2020
DESCRIPTION:
URL:https://djg-saarbruecken.de/veranstaltung/7-japan-filmtage-in-saarbruecken-23-26-mai-2020/
END:VEVENT
END:VCALENDAR