BEGIN:VCALENDAR
VERSION:2.0
PRODID:-//Deutsch-Japanische Gesellschaft in Saarbrücken e.V - ECPv4.4.3//NONSGML v1.0//EN
CALSCALE:GREGORIAN
METHOD:PUBLISH
X-WR-CALNAME:Deutsch-Japanische Gesellschaft in Saarbrücken e.V
X-ORIGINAL-URL:https://djg-saarbruecken.de
X-WR-CALDESC:Events for Deutsch-Japanische Gesellschaft in Saarbrücken e.V
BEGIN:VEVENT
DTSTART;VALUE=DATE:20161209
DTEND;VALUE=DATE:20161209
DTSTAMP:20260424T045257
CREATED:20161014T094438Z
LAST-MODIFIED:20161015T115538Z
UID:217-1481241600-1481327999@djg-saarbruecken.de
SUMMARY:Adventsessen im Haus der Casino-Gesellschaft
DESCRIPTION:
URL:https://djg-saarbruecken.de/veranstaltung/adventessen-in-der-casinogesellschaft/
LOCATION:Bismarckstraße 47\, Saarbrücken \, Saarland\, 66121\, Deutschland
END:VEVENT
END:VCALENDAR