BEGIN:VCALENDAR
VERSION:2.0
PRODID:-//Deutsch-Japanische Gesellschaft in Saarbrücken e.V - ECPv4.4.3//NONSGML v1.0//EN
CALSCALE:GREGORIAN
METHOD:PUBLISH
X-WR-CALNAME:Deutsch-Japanische Gesellschaft in Saarbrücken e.V
X-ORIGINAL-URL:https://djg-saarbruecken.de
X-WR-CALDESC:Events for Deutsch-Japanische Gesellschaft in Saarbrücken e.V
BEGIN:VEVENT
DTSTART;TZID=Europe/Berlin:20241102T080000
DTEND;TZID=Europe/Berlin:20241102T170000
DTSTAMP:20260423T122421
CREATED:20241102T175020Z
LAST-MODIFIED:20241123T101400Z
UID:840-1730534400-1730566800@djg-saarbruecken.de
SUMMARY:Adventsessen am 13. Dezember
DESCRIPTION:Liebe Mitglieder und Freunde\,\n\ndie Deutsch-Japanische Gesellschaft in Saarbrücken lädt Sie herzlich zu ihrem diesjährigen Adventsessen mit Freunden aus Japan ein. Es findet statt am Freitag\, dem 13. Dezember 2024\, um 19.00 Uhr in der Wandelhalle der Basilika St. Johann\, Gerberstraße 31\, 66111 Saarbrücken.\n\nAngeboten wird ein Adventsbuffet. Bestandteile sind u. a. Amuse-Bouche; Schweinefilet\,  gebratener Lachs\, zarter Rinderbraten\, Thai-Gemüse\, jeweils mit Saucen und Beilagen; Roastbeef\, gefüllte Eier\, Räucherlachs\, Antipasti\, Kalbfleischpastete\, Forellenfilet\, Vitello tonnato\, gefülte Champignons; Suppe\, Salate und Dessserts.\n\nUmrahmt wird unser Beisammensein von Ulrike Voltmer (Sopran) und Sakiko Takeuchi-Mohr (Klavier) mit japanischen Kompositionen\, Liedern von W. A. Mozart\, Opernmelodien von G. Puccini sowie geistlichen Gesängen von Bach - Gounod und F. Schubert.\n\nAnmeldungen werden erbeten bis zum 12. Dezember 2024 per E-Mail an gerhard.mohr@djg-saarbruecken.de.\n\nBitte überweisen Sie den Kostenbeitrag von 40\,00 Euro pro Person auf das DJG-Konto DE82 5905 0101 0067 1379 68 bei der Sparkasse Saarbrücken\, SAKSDE55XXX.\n\nDie Mitglieder der Gesellschaft erhalten noch eine schriftliche Einladung.
URL:https://djg-saarbruecken.de/veranstaltung/adventsessen-am-13-dezember/
END:VEVENT
END:VCALENDAR