BEGIN:VCALENDAR
VERSION:2.0
PRODID:-//Deutsch-Japanische Gesellschaft in Saarbrücken e.V - ECPv4.4.3//NONSGML v1.0//EN
CALSCALE:GREGORIAN
METHOD:PUBLISH
X-WR-CALNAME:Deutsch-Japanische Gesellschaft in Saarbrücken e.V
X-ORIGINAL-URL:https://djg-saarbruecken.de
X-WR-CALDESC:Events for Deutsch-Japanische Gesellschaft in Saarbrücken e.V
BEGIN:VEVENT
DTSTART;TZID=Europe/Berlin:20181206T190000
DTEND;TZID=Europe/Berlin:20181206T230000
DTSTAMP:20260423T155134
CREATED:20180313T182540Z
LAST-MODIFIED:20180430T104409Z
UID:470-1544122800-1544137200@djg-saarbruecken.de
SUMMARY:Adventsessen im Vereinshaus Saarbrücker-Casinogesellschaft\, 6.Dezember 2018\, 19:00-23:00
DESCRIPTION:
URL:https://djg-saarbruecken.de/veranstaltung/adventsessen-im-vereinshaus-saarbruecker-casinogesellschaft-6-dezember2018-1900/
END:VEVENT
END:VCALENDAR