BEGIN:VCALENDAR
VERSION:2.0
PRODID:-//Deutsch-Japanische Gesellschaft in Saarbrücken e.V - ECPv4.4.3//NONSGML v1.0//EN
CALSCALE:GREGORIAN
METHOD:PUBLISH
X-WR-CALNAME:Deutsch-Japanische Gesellschaft in Saarbrücken e.V
X-ORIGINAL-URL:https://djg-saarbruecken.de
X-WR-CALDESC:Events for Deutsch-Japanische Gesellschaft in Saarbrücken e.V
BEGIN:VEVENT
DTSTART;TZID=Europe/Berlin:20191213T190000
DTEND;TZID=Europe/Berlin:20191213T230000
DTSTAMP:20260424T001754
CREATED:20190914T110027Z
LAST-MODIFIED:20191028T114627Z
UID:565-1576263600-1576278000@djg-saarbruecken.de
SUMMARY:Adventsessen in der Saarbrücker Casinogesellschaft 13.12.2019
DESCRIPTION:\n\n\n\n\n\n 
URL:https://djg-saarbruecken.de/veranstaltung/adventsessen-in-saarbruecker-casinogesellschaft-13-12-2019/
END:VEVENT
END:VCALENDAR