BEGIN:VCALENDAR
VERSION:2.0
PRODID:-//Deutsch-Japanische Gesellschaft in Saarbrücken e.V - ECPv4.4.3//NONSGML v1.0//EN
CALSCALE:GREGORIAN
METHOD:PUBLISH
X-WR-CALNAME:Deutsch-Japanische Gesellschaft in Saarbrücken e.V
X-ORIGINAL-URL:https://djg-saarbruecken.de
X-WR-CALDESC:Events for Deutsch-Japanische Gesellschaft in Saarbrücken e.V
BEGIN:VEVENT
DTSTART;VALUE=DATE:20161020
DTEND;VALUE=DATE:20161021
DTSTAMP:20260424T063629
CREATED:20161014T094511Z
LAST-MODIFIED:20161014T115117Z
UID:219-1476921600-1477094399@djg-saarbruecken.de
SUMMARY:Bürgermeister Enomoto aus Tsuruoka/Yamagata zu Besuch in Saarbrücken
DESCRIPTION:Vom 20.10.16 - 21.10.16 erwarten wir den Besuch des Bürgermeisters aus Tsuruoka.(Region Yamagata)\nVor zwei Jahren besuchte uns bereits die Sportdezernentin dieser Stadt Frau Noguchi\, im Rahmen des traditionellen deutsch-japanischen Simultanaustausches mit 8 Jugendlichen.\nSaarbrücken als Sportstadt gefiel ihr sehr gut und hat sie beeindruckt.\nAuch ihre Stadt Tsuruoka hat einen Schwerpunkt auf Sport und ihre Sportstätten gelegt\, so dass diese Stadt vom deutschen Botschafter in Japan\, ermutigt wurde\, aufgrund der wunderschönen Lage\, den warmen Quellen und den Sportstätten\, diese den Sportlern zur Vorbereitung für die Olympiade 2020 in Tokio zur Verfügung zu stellen. Frau Noguchi konnte ihren Bürgermeister\, der bis zum 19.10.16 wegen eines UNESCO-Projekts in Paris weilt\, dafür begeistern anschließend Saarbrücken zu besuchen.\n\nAm 20.10.16 wird es an der Landessportschule zu einem Treffen mit der Geschäftsführung des Landessportverbandes ( Herr Hans und Herr Forsch) und Verantwortlichen des Saarländischen Fußballverbandes (Vizepräsident Bernhard Bauer\, Verbandssportlehrer Christian Oles) und des Behindertensportverbandes  (Präsident Axel Riedschy\, Vizepräsident Sport Edmund Minas\, Vizepräsident Finanzen Jürgen Ehlen) kommen.Zum Abschluss des Tages ist noch ein Besuch beim FC Reimsbach vorgesehen.\n\nAm 21.10.16 ist Bürgermeister Enomoto zu einem Gedankenaustausch bei der Saarbrücker Oberbürgermeisterin Charlotte Britz eingeladen.\n\n \n\n 
URL:https://djg-saarbruecken.de/veranstaltung/buergermeister-tsuruokayamagata-olympic-dorf/
END:VEVENT
END:VCALENDAR