BEGIN:VCALENDAR
VERSION:2.0
PRODID:-//Deutsch-Japanische Gesellschaft in Saarbrücken e.V - ECPv4.4.3//NONSGML v1.0//EN
CALSCALE:GREGORIAN
METHOD:PUBLISH
X-WR-CALNAME:Deutsch-Japanische Gesellschaft in Saarbrücken e.V
X-ORIGINAL-URL:https://djg-saarbruecken.de
X-WR-CALDESC:Events for Deutsch-Japanische Gesellschaft in Saarbrücken e.V
BEGIN:VEVENT
DTSTART;VALUE=DATE:20160723
DTEND;VALUE=DATE:20160730
DTSTAMP:20260424T161715
CREATED:20161014T101124Z
LAST-MODIFIED:20161015T114944Z
UID:236-1469232000-1469923199@djg-saarbruecken.de
SUMMARY:Deutsch-Japanisches Fussballturnier SP-Fute Ishikawa U15 zu Gast im Saarland
DESCRIPTION:[caption id="attachment_281" align="alignnone" width="300"] SP-Fute Ishikawa U15[/caption]
URL:https://djg-saarbruecken.de/veranstaltung/deutsch-japanisches-fussballturnier/
END:VEVENT
END:VCALENDAR