BEGIN:VCALENDAR
VERSION:2.0
PRODID:-//Deutsch-Japanische Gesellschaft in Saarbrücken e.V - ECPv4.4.3//NONSGML v1.0//EN
CALSCALE:GREGORIAN
METHOD:PUBLISH
X-WR-CALNAME:Deutsch-Japanische Gesellschaft in Saarbrücken e.V
X-ORIGINAL-URL:https://djg-saarbruecken.de
X-WR-CALDESC:Events for Deutsch-Japanische Gesellschaft in Saarbrücken e.V
BEGIN:VEVENT
DTSTART;TZID=Europe/Berlin:20240414T110000
DTEND;TZID=Europe/Berlin:20240414T110000
DTSTAMP:20260423T160350
CREATED:20240312T110119Z
LAST-MODIFIED:20240312T110119Z
UID:799-1713092400-1713092400@djg-saarbruecken.de
SUMMARY:DJG-Matinee im Filmhaus Saarbrücken
DESCRIPTION:Save the Date: Am Sonntag\, 14. April\, findet im Filmhaus Saarbrücken eine DJG-Matinee mit Filmvorführung und anschließendem Empfang statt. Weitere Details folgen in Kürze.
URL:https://djg-saarbruecken.de/veranstaltung/djg-matinee-im-filmhaus-saarbruecken/
END:VEVENT
END:VCALENDAR