BEGIN:VCALENDAR
VERSION:2.0
PRODID:-//Deutsch-Japanische Gesellschaft in Saarbrücken e.V - ECPv4.4.3//NONSGML v1.0//EN
CALSCALE:GREGORIAN
METHOD:PUBLISH
X-WR-CALNAME:Deutsch-Japanische Gesellschaft in Saarbrücken e.V
X-ORIGINAL-URL:https://djg-saarbruecken.de
X-WR-CALDESC:Events for Deutsch-Japanische Gesellschaft in Saarbrücken e.V
BEGIN:VEVENT
DTSTART;TZID=Europe/Berlin:20170919T150000
DTEND;TZID=Europe/Berlin:20170919T170000
DTSTAMP:20260423T221315
CREATED:20170911T182823Z
LAST-MODIFIED:20170911T183230Z
UID:416-1505833200-1505840400@djg-saarbruecken.de
SUMMARY:Japanisch-Deutsches Seminar an der Universität des Saarlandes mit Professores der Kansai Universität Osaka und der Chuo Universität Tokyo\,19.September 2017 15:00Uhr
DESCRIPTION:Im Namen unserer beiden Mitglieder\, Frau Professor Annemarie Matusche-Beckmann\, Japanbeauftragte\, und dem Dekan Herrn Professor Roland Michael Beckmann\, laden wir Sie hiermit zur Teilnahme an diesem sehr hochkarätigen Seminar ein.\n\nDrei bekannte Professores aus Japan von der Kansai Universität\, Osaka\, sowie der Chuo Universität\, Tokio\, befassen sich mit Themen\, wie der Rezeption des deutschen Strafrechts in Japan\, dem Jagdzwischenfall des Prinzen Heinrich von Preußen\, dem Gesetzlichkeitsprinzip\, dem Otsu-Zwischenfall sowie dem Elektrizitätsdiebstahl.PastedGraphic-2-1
URL:https://djg-saarbruecken.de/veranstaltung/japanisch-deutsches-seminar-an-der-universitaet-des-saarlandes-mit-professores-der-kansai-universitaet-osaka-und-der-chuo-universitaet-tokyo19-september-2017-1500uhr/
END:VEVENT
END:VCALENDAR