BEGIN:VCALENDAR
VERSION:2.0
PRODID:-//Deutsch-Japanische Gesellschaft in Saarbrücken e.V - ECPv4.4.3//NONSGML v1.0//EN
CALSCALE:GREGORIAN
METHOD:PUBLISH
X-WR-CALNAME:Deutsch-Japanische Gesellschaft in Saarbrücken e.V
X-ORIGINAL-URL:https://djg-saarbruecken.de
X-WR-CALDESC:Events for Deutsch-Japanische Gesellschaft in Saarbrücken e.V
BEGIN:VEVENT
DTSTART;TZID=Europe/Berlin:20230625T120000
DTEND;TZID=Europe/Berlin:20230625T210000
DTSTAMP:20260423T191837
CREATED:20230605T105244Z
LAST-MODIFIED:20230608T073505Z
UID:744-1687694400-1687726800@djg-saarbruecken.de
SUMMARY:Japantag im Filmhaus Saarbrücken
DESCRIPTION:Japanisches SOMMERFEST IM FILMHAUS SAARBRÜCKEN am Sonntag\, 25.6.23\nEvents und aktuelles Kino aus und über Japan\nDie Deutsch -Japanische Gesellschaft in Saarbrücken e.V. als Mitveranstalter möchte Sie zum Japanischen SOMMERFEST IM FILMHAUS SAARBRÜCKEN am Sonntag\, 25.6.23 ab 12:00 Uhr herzlich einladen.\nZum Auftakt des Kinosommers laden das Filmhaus Saarbrücken und der Studiengang Historisch orientierte Kulturwissenschaften an der Universität des Saarlandes zum großen Sommerfest ein! In diesem Jahr steht das Fest ganz im Sinne des Landes der aufgehenden Sonne und der japanischen Popkultur.\nAblauf:\n\n\n \tEröffnet wird das Fest mit einer Filmmatinee um 12 Uhr. Gezeigt wird der aktuelle Dokumentarfilm “Miyama - Kyoto Prefecture” von Rainer Komers.\n \tAb 14 Uhr startet dann das vielseitige Festprogramm im Innenhof\, dass die Studierenden unter das Motto von Anime und Manga gestellt haben:\n \tDie Live-Band 'Nannin ka' (何人?) unter der Leitung gibt neu arrangierte Versionen bekannter Meisterwerke aktueller und vergangener Anime-Adaptionen zum Besten!\n \tDie Vegabunden und das Reiseck Saarbrücken sorgen mit asiatischem Streetfood für das leibliche Wohl und an der Pimp-your-Popcorn-Station können sich die Gäste den beliebten Kinosnack so individuell gestalten wie sich selbst. Itadakimasu!\n \tAn zahlreichen DIY-Stationen kann man sich die Zeit zum nächsten Film damit vertreiben\, für die Liebsten Origami\, Armbänder oder einen recycelten Kronkorken-Magneten zu basteln.\n \tDazu gibt es den beliebten Plakatflohmarkt aus Beständen des Filmhauses.\n \tAußerdem vergibt das Filmhaus Saarbrücken im Rahmen eines Cosplay-Contest insgesamt drei Preise für die vom Publikum gewählten\, authentischsten\, beliebtesten oder verrücktesten Cosplayer:innen\, die im Kostüm ihrer liebsten Anime Figur zum Fest erscheinen! Die Preisverleihung findet kurz vor Beginn des nächsten Programmpunkts statt:\n \tZum Abschluss zeigt das Filmhaus Saarbrücken um 18 Uhr eine OmU-Version des neusten Animes von Makoto Shinkai "Suzume“. Alle Gäste\, die nicht so eingehend mit der Anime- und Manga-Szene vertraut sind\, können ihr Wissen vor dem Film durch einen Kurzvortrag von Hideki Yamaguchi auffrischen.\n\nKinotickets gibt's zum Sommerfest-Preis von 5€ je Film an der Kinokasse (905-4800) oder online unter www.filmhaus-sb.de.\n\nWir freuen uns auf Euer/ Ihr Kommen!\nMata ne! またね!\n \n\n 
URL:https://djg-saarbruecken.de/veranstaltung/japantag-im-filmhaus-saarbruecken/
END:VEVENT
END:VCALENDAR