BEGIN:VCALENDAR
VERSION:2.0
PRODID:-//Deutsch-Japanische Gesellschaft in Saarbrücken e.V - ECPv4.4.3//NONSGML v1.0//EN
CALSCALE:GREGORIAN
METHOD:PUBLISH
X-WR-CALNAME:Deutsch-Japanische Gesellschaft in Saarbrücken e.V
X-ORIGINAL-URL:https://djg-saarbruecken.de
X-WR-CALDESC:Events for Deutsch-Japanische Gesellschaft in Saarbrücken e.V
BEGIN:VEVENT
DTSTART;TZID=Europe/Berlin:20180313T181937
DTEND;TZID=Europe/Berlin:20180313T181937
DTSTAMP:20260423T171956
CREATED:20180313T181936Z
LAST-MODIFIED:20180313T181936Z
UID:466-1520965177-1520965177@djg-saarbruecken.de
SUMMARY:Japantag Wirtschaft\, im Herbst 2018 (Termin IHK Saarland angefragt)
DESCRIPTION:
URL:https://djg-saarbruecken.de/veranstaltung/japantag-wirtschaft-im-herbst-2018-termin-ihk-saarland-angefragt/
END:VEVENT
END:VCALENDAR