BEGIN:VCALENDAR
VERSION:2.0
PRODID:-//Deutsch-Japanische Gesellschaft in Saarbrücken e.V - ECPv4.4.3//NONSGML v1.0//EN
CALSCALE:GREGORIAN
METHOD:PUBLISH
X-WR-CALNAME:Deutsch-Japanische Gesellschaft in Saarbrücken e.V
X-ORIGINAL-URL:https://djg-saarbruecken.de
X-WR-CALDESC:Events for Deutsch-Japanische Gesellschaft in Saarbrücken e.V
BEGIN:VEVENT
DTSTART;VALUE=DATE:20160902
DTEND;VALUE=DATE:20160902
DTSTAMP:20260424T143710
CREATED:20161014T101527Z
LAST-MODIFIED:20161014T101527Z
UID:240-1472774400-1472860799@djg-saarbruecken.de
SUMMARY:Saarbrücker Casino Gesellschaft: 220 Jubiläum
DESCRIPTION:
URL:https://djg-saarbruecken.de/veranstaltung/saarbruecker-casino-gesellschaft-220-jubilaeum/
END:VEVENT
END:VCALENDAR