BEGIN:VCALENDAR
VERSION:2.0
PRODID:-//Deutsch-Japanische Gesellschaft in Saarbrücken e.V - ECPv4.4.3//NONSGML v1.0//EN
CALSCALE:GREGORIAN
METHOD:PUBLISH
X-WR-CALNAME:Deutsch-Japanische Gesellschaft in Saarbrücken e.V
X-ORIGINAL-URL:https://djg-saarbruecken.de
X-WR-CALDESC:Events for Deutsch-Japanische Gesellschaft in Saarbrücken e.V
BEGIN:VEVENT
DTSTART;VALUE=DATE:20180319
DTEND;VALUE=DATE:20180326
DTSTAMP:20260423T133442
CREATED:20180313T180211Z
LAST-MODIFIED:20180313T180211Z
UID:457-1521417600-1522108799@djg-saarbruecken.de
SUMMARY:Saarlandbesuch Studierender des National Instituts of Technology „KOSEN“ vom 19.-26.03.2018
DESCRIPTION: \n\n\n\n 
URL:https://djg-saarbruecken.de/veranstaltung/saarlandbesuch-studierender-des-national-instituts-of-technology-kosen-vom-19-26-03-2018/
END:VEVENT
END:VCALENDAR