BEGIN:VCALENDAR
VERSION:2.0
PRODID:-//Deutsch-Japanische Gesellschaft in Saarbrücken e.V - ECPv4.4.3//NONSGML v1.0//EN
CALSCALE:GREGORIAN
METHOD:PUBLISH
X-WR-CALNAME:Deutsch-Japanische Gesellschaft in Saarbrücken e.V
X-ORIGINAL-URL:https://djg-saarbruecken.de
X-WR-CALDESC:Events for Deutsch-Japanische Gesellschaft in Saarbrücken e.V
BEGIN:VEVENT
DTSTART;TZID=Europe/Berlin:20171010T190000
DTEND;TZID=Europe/Berlin:20171010T210000
DTSTAMP:20260423T185920
CREATED:20170818T105309Z
LAST-MODIFIED:20171003T193205Z
UID:410-1507662000-1507669200@djg-saarbruecken.de
SUMMARY:Tokyo und die Olympiade 2020
DESCRIPTION:Tokios Vorbereitung auf die Olympiade 2020.\n\nVortrag von Dipl.-Ing. Ulf Meyer\num 19:00 Uhr\nin der Saarbrücker Casino -Gesellschaft\n\nZum Vortrag\nIn der Zeit  24. Juli bis 9. August 2020  werden in Tokio die \n32. Olympischen Sommerspiele stattfinden. Ähnlich wie 1964  \nbildet dieser Wettbewerb den Anlass für eine städtebauliche \nNeudefinition der japanischen Hauptstadt und dem Bau neuer \nSportstädten\, die architektonische Aufmerksamkeit verdienen. \n\nDie meisten Wettbewerbe sollen  innerhalb von acht Kilometern \num das olympische Dorf ausgetragen werden. Innerhalb dieses \nRadius verteilen sich die Sportstätten auf die sog Heritage Zone \nim Norden sowie die Tokyo Bay Zone im Süden. \n\nDer Vortrag gibt Überblick zu verschiedenen Bauprojekten\, und \nwird besonders auf das von Architekt Kuma Kengo entworfene \nNationalstadion eingehen. Darüber werden Konsequenzen der \nstädtebaulichen Veränderungen gezeigt und es wird Vergleich \nzur Tokio Olympiade 1964 gezogen.\nZum Referenten\nUlf Meyer\, geb. 1970\, studierte Architektur an TU Berlin und \nIllinois Technology Institut\, Chicago. 2001/02 arbeitete er bei \nArchitekt  Shigeru  Ban\, Tokio. Hier u. a. bekannt durch sein\nMetzer  Centre Pompidou und dem jpn. Pavillion  Expo 2000 \nHannover.  \n2008-10 als Dozent für Nachhaltigen Städtebau an Kansas \nState University. 2012 kuratierte er die Architektur-Biennale \nHongkong/Shenzen.\nAls Journalist erschienen von ihm zahlreiche Medienbeiträge. \nHerausgabe von Architekturführern\, wie Tokyo Architecture.\nLehraufträge Tamkang University Taiwan\, Jade Hochschule\,\nHTWK Konstanz.”
URL:https://djg-saarbruecken.de/veranstaltung/tokyo-und-die-olympiade-2020/
END:VEVENT
END:VCALENDAR