BEGIN:VCALENDAR
VERSION:2.0
PRODID:-//Deutsch-Japanische Gesellschaft in Saarbrücken e.V - ECPv4.4.3//NONSGML v1.0//EN
CALSCALE:GREGORIAN
METHOD:PUBLISH
X-WR-CALNAME:Deutsch-Japanische Gesellschaft in Saarbrücken e.V
X-ORIGINAL-URL:https://djg-saarbruecken.de
X-WR-CALDESC:Events for Deutsch-Japanische Gesellschaft in Saarbrücken e.V
BEGIN:VEVENT
DTSTART;TZID=Europe/Berlin:20231215T190000
DTEND;TZID=Europe/Berlin:20231215T230000
DTSTAMP:20260423T160330
CREATED:20230916T132440Z
LAST-MODIFIED:20230916T132755Z
UID:757-1702666800-1702681200@djg-saarbruecken.de
SUMMARY:Traditionelles Adventsessen 2023
DESCRIPTION:Freitag  15. Dezember  19:00 Uhr\n\nTraditionelles Adventsessen 2023\n\nim Haus der SB Casinogesellschaft\n\nAlbrechts  Restaurant  am Staden
URL:https://djg-saarbruecken.de/veranstaltung/traditionelles-adventsessen-2023/
END:VEVENT
END:VCALENDAR