BEGIN:VCALENDAR
VERSION:2.0
PRODID:-//Deutsch-Japanische Gesellschaft in Saarbrücken e.V - ECPv4.4.3//NONSGML v1.0//EN
CALSCALE:GREGORIAN
METHOD:PUBLISH
X-WR-CALNAME:Deutsch-Japanische Gesellschaft in Saarbrücken e.V
X-ORIGINAL-URL:https://djg-saarbruecken.de
X-WR-CALDESC:Events for Deutsch-Japanische Gesellschaft in Saarbrücken e.V
BEGIN:VEVENT
DTSTART;TZID=Europe/Berlin:20190530T180000
DTEND;TZID=Europe/Berlin:20190601T220000
DTSTAMP:20260423T205905
CREATED:20190320T092238Z
LAST-MODIFIED:20190320T101708Z
UID:534-1559239200-1559426400@djg-saarbruecken.de
SUMMARY:Verbandstagung der Deutsch Japanischen Gesellschaften VDJG vom 30.05.19-01.06.19 in Bonn
DESCRIPTION:
URL:https://djg-saarbruecken.de/veranstaltung/verbandstagung-der-deutsch-japanischen-gesellschaften-vdjg-vom-30-05-19-01-06-19-in-bonn/
END:VEVENT
END:VCALENDAR