BEGIN:VCALENDAR
VERSION:2.0
PRODID:-//Deutsch-Japanische Gesellschaft in Saarbrücken e.V - ECPv4.4.3//NONSGML v1.0//EN
CALSCALE:GREGORIAN
METHOD:PUBLISH
X-WR-CALNAME:Deutsch-Japanische Gesellschaft in Saarbrücken e.V
X-ORIGINAL-URL:https://djg-saarbruecken.de
X-WR-CALDESC:Events for Deutsch-Japanische Gesellschaft in Saarbrücken e.V
BEGIN:VEVENT
DTSTART;VALUE=DATE:20170406
DTEND;VALUE=DATE:20170406
DTSTAMP:20260424T030827
CREATED:20170221T084824Z
LAST-MODIFIED:20170221T084824Z
UID:374-1491436800-1491523199@djg-saarbruecken.de
SUMMARY:Vorstandssitzung im Vereinshaus
DESCRIPTION:
URL:https://djg-saarbruecken.de/veranstaltung/vorstandssitzung-im-vereinshaus/
LOCATION:Bismarckstraße 47\, Saarbrücken \, Saarland\, 66121\, Deutschland
END:VEVENT
END:VCALENDAR