BEGIN:VCALENDAR
VERSION:2.0
PRODID:-//Deutsch-Japanische Gesellschaft in Saarbrücken e.V - ECPv4.4.3//NONSGML v1.0//EN
CALSCALE:GREGORIAN
METHOD:PUBLISH
X-WR-CALNAME:Deutsch-Japanische Gesellschaft in Saarbrücken e.V
X-ORIGINAL-URL:https://djg-saarbruecken.de
X-WR-CALDESC:Events for Deutsch-Japanische Gesellschaft in Saarbrücken e.V
BEGIN:VEVENT
DTSTART;TZID=Europe/Berlin:20180507T190000
DTEND;TZID=Europe/Berlin:20180507T210000
DTSTAMP:20260423T120529
CREATED:20180424T171059Z
LAST-MODIFIED:20180427T160959Z
UID:460-1525719600-1525726800@djg-saarbruecken.de
SUMMARY:Vortragsabend im Vereinshaus Saarbrücker-Casinogesellschaft\, 7.Mai 2018\, 19:00\, „Die Medienlandschaft in Japan und das Thema Fukushima“\, Prof.Dr. Hilaria Gössmann\, Universität Trier
DESCRIPTION:\n\nVortragsabend im Vereinshaus Saarbrücker-Casinogesellschaft\, 7. Mai 2018\, 19:00\n“Die  Medienlandschaft in Japan  und das Thema Fukushima”\,\nProf. Dr. Hilaria Gössmann\, Universität Trier\n\nZum Thema\n\nim Vortrag werden einleitend die wichtigsten Charakteristika der Medien in Japan vorgestellt. Im Hinblick auf die Atomkatastrophe sollen sowohl Tendenzen der journalistischen Darstellung (Fernsehen und Printmedien) als auch die Thematisierung im fiktionalen Bereich (Fernsehdrama und Kinofilm) dargestellt werden. Dabei gilt es jeweils die Möglichkeiten und Grenzen der Auseinandersetzung mit “Fukushima “ zu analysieren und den Beitrag der Medien zu einer (kritischen) öffentlichen Debatte zu diskutieren.\n\n 
URL:https://djg-saarbruecken.de/veranstaltung/vortragsabend-im-vereinshaus-saarbruecker-casinogesellschaft-7-mai-2018-1900-medienlandschaft-in-japan-zum-thema-fukushima-prof-dr-hilaria-goessmann-universitaet-trier/
END:VEVENT
END:VCALENDAR