BEGIN:VCALENDAR
VERSION:2.0
PRODID:-//Deutsch-Japanische Gesellschaft in Saarbrücken e.V - ECPv4.4.3//NONSGML v1.0//EN
CALSCALE:GREGORIAN
METHOD:PUBLISH
X-WR-CALNAME:Deutsch-Japanische Gesellschaft in Saarbrücken e.V
X-ORIGINAL-URL:https://djg-saarbruecken.de
X-WR-CALDESC:Events for Deutsch-Japanische Gesellschaft in Saarbrücken e.V
BEGIN:VEVENT
DTSTART;TZID=Europe/Berlin:20180313T182231
DTEND;TZID=Europe/Berlin:20180313T182231
DTSTAMP:20260423T152818
CREATED:20180313T182230Z
LAST-MODIFIED:20180313T182230Z
UID:468-1520965351-1520965351@djg-saarbruecken.de
SUMMARY:Vortragsabend im Vereinshaus Saarbrücker Casinogesellschaft (Termin angefragt)  “Landeshauptstadt und Urbanität” Ulf Meyer\, Architekt\, Journalist\, Berlin/Tokio
DESCRIPTION:\n\n 
URL:https://djg-saarbruecken.de/veranstaltung/vortragsabend-im-vereinshaus-saarbruecker-casinogesellschaft-termin-angefragt-landeshauptstadt-und-urbanitaet-ulf-meyer-architekt-journalist-berlintokio/
END:VEVENT
END:VCALENDAR