BEGIN:VCALENDAR
VERSION:2.0
PRODID:-//Deutsch-Japanische Gesellschaft in Saarbrücken e.V - ECPv4.4.3//NONSGML v1.0//EN
CALSCALE:GREGORIAN
METHOD:PUBLISH
X-WR-CALNAME:Deutsch-Japanische Gesellschaft in Saarbrücken e.V
X-ORIGINAL-URL:https://djg-saarbruecken.de
X-WR-CALDESC:Events for Deutsch-Japanische Gesellschaft in Saarbrücken e.V
BEGIN:VEVENT
DTSTART;TZID=Europe/Berlin:20191115T183000
DTEND;TZID=Europe/Berlin:20191115T210000
DTSTAMP:20260423T223801
CREATED:20190914T105908Z
LAST-MODIFIED:20191028T114737Z
UID:563-1573842600-1573851600@djg-saarbruecken.de
SUMMARY:„Womenomics - Können Frauen die Wirtschaft Japans retten?“ 15.11.2019
DESCRIPTION:\nProf. Dr.Annette Schad-Seifert\, Universität Düsseldorf\n\nMinisterpräsident Abe erklärt\, dass Erfolg seiner Wachstumspolitik\nmaßgeblich von der Macht der Frauen abhänge. Bis 2020 soll der\nAnteil in Führungsetagen auf 30% und die weibliche Beschäftigung\nauf 73  Prozent angehoben werden.
URL:https://djg-saarbruecken.de/veranstaltung/womenomics-die-macht-japanischer-frauen-15-11-2019/
LOCATION:Rathausplatz \,  Saarbrücken \, Saarland \, 66111\, Deutschland
END:VEVENT
END:VCALENDAR